BEGIN:VCALENDAR
VERSION:2.0
PRODID:-//COcotte Numérique - ECPv5.1.4//NONSGML v1.0//EN
CALSCALE:GREGORIAN
METHOD:PUBLISH
X-WR-CALNAME:COcotte Numérique
X-ORIGINAL-URL:https://www.cocotte-numerique.fr
X-WR-CALDESC:Évènements pour COcotte Numérique
BEGIN:VTIMEZONE
TZID:Europe/Paris
BEGIN:DAYLIGHT
TZOFFSETFROM:+0100
TZOFFSETTO:+0200
TZNAME:CEST
DTSTART:20190331T010000
END:DAYLIGHT
BEGIN:STANDARD
TZOFFSETFROM:+0200
TZOFFSETTO:+0100
TZNAME:CET
DTSTART:20191027T010000
END:STANDARD
END:VTIMEZONE
BEGIN:VEVENT
DTSTART;TZID=Europe/Paris:20190909T093000
DTEND;TZID=Europe/Paris:20190909T163000
DTSTAMP:20260424T091050
CREATED:20190806T074727Z
LAST-MODIFIED:20190806T074727Z
UID:2029-1568021400-1568046600@www.cocotte-numerique.fr
SUMMARY:Formation Web Marketing le 9 septembre 2019 à l'espace de coworking la COcotte numérique
DESCRIPTION:\n\n\nOBJECTIFS\nConnaître l’environnement web\, intégrer la démarche webmarketing dans sa stratégie globale\, améliorer sa pratique des outils internet\, dynamiser son efficacité commerciale\, densifier son réseau relationnel. \n \n\n\nPUBLIC\nTout public souhaitant mettre en oeuvre une stratégie de marketing électronique\n\n\nPRE-REQUIS\nCette formation fait appel à des notions techniques\, qui sans être pointues\, \ndemandent une connaissance de base des mécanismes d’Internet. \n \n\n\nPROGRAMME \n \n·         Définition du marketing\, stratégie marketing\, internet en chiffres \n·         Contexte & enjeux (définition du webmarketing\, évolution des pratiques\, acteurs du webmarketing\, dynamiser la création de valeurs\, structurer sa démarche) \n·         Les objectifs stratégiques (les cibles\, vendre\, être connu\, être crédible\, informer\, fidéliser\, surveiller) \n·         Les e-contenus   \n·         Les e-supports (le site internet : 10 facteurs clés de succès\, le blog\, le mini site dédié\, les plateformes d’échanges\, les réseaux sociaux) \n·         Les leviers de notoriété : générer du traffic \n·         Pilotage et mesure : les outils statistiques\, le page rank \n \n\n\nMETHODES ET MOYENS PEDAGOGIQUES\n·         Démonstrations\, \n·         Cas pratiques \n·         Exercices de découverte\, \n·         Accès internet \n·         Animation via vidéo projecteur\, \n·         Echanges de pratique\, \n·         Réponses aux questions des participants\, \n·         Supports pédagogiques\n\n\n\n  \nContactez Amélie au 04.71.20.37.92 pour vous inscrire \nLes formations sont destinées aux entrepreneurs et porteurs de projets\, tous secteurs d’activité confondus ; elles sont entièrement prises en charge par la collectivité\, avec le soutien de la Région Auvergne-Rhône Alpes et de BPI France Création. \n
URL:https://www.cocotte-numerique.fr/event/formation-web-marketing-le-9-septembre-2019-a-lespace-de-coworking-la-cocotte-numerique/
END:VEVENT
END:VCALENDAR