BEGIN:VCALENDAR
VERSION:2.0
PRODID:-//COcotte Numérique - ECPv5.1.4//NONSGML v1.0//EN
CALSCALE:GREGORIAN
METHOD:PUBLISH
X-WR-CALNAME:COcotte Numérique
X-ORIGINAL-URL:https://www.cocotte-numerique.fr
X-WR-CALDESC:Évènements pour COcotte Numérique
BEGIN:VTIMEZONE
TZID:Europe/Paris
BEGIN:DAYLIGHT
TZOFFSETFROM:+0100
TZOFFSETTO:+0200
TZNAME:CEST
DTSTART:20190331T010000
END:DAYLIGHT
BEGIN:STANDARD
TZOFFSETFROM:+0200
TZOFFSETTO:+0100
TZNAME:CET
DTSTART:20191027T010000
END:STANDARD
END:VTIMEZONE
BEGIN:VEVENT
DTSTART;TZID=Europe/Paris:20190430T093000
DTEND;TZID=Europe/Paris:20190430T170000
DTSTAMP:20260424T134729
CREATED:20190417T092712Z
LAST-MODIFIED:20190513T072640Z
UID:2014-1556616600-1556643600@www.cocotte-numerique.fr
SUMMARY:Rencontre avec Anne et Patrick Beauvillard - Sur les chemins de la coopération
DESCRIPTION:Sur les chemins de la coopération…À l’écoute des signaux faibles\, … vers la « maturité coopérative ». \nLa Cocotte Numérique recevra\, les 29 et 30 avril\, l’itinérance d’Anne et Patrick Beauvillard. \nParticipez à cette journée\, pas seulement parce qu’il s’agit d’une démarche originale qui pique votre curiosité\, mais aussi « parce que ce temps d’échange\, approfondi\, nous permettra à coup sûr de cheminer\, individuellement et ensemble » (Elsa) \nFabienne\, qui suit leur travail\, résume sa motivation à participer à la journée ainsi : « Aujourd’hui\, à la Cocotte Numérique\, je suis consommatrice de conditions de travail optimum. Je peux y exercer mon activité indépendante dans un cadre agréable et fonctionnel tout en profitant d’une ambiance sympathique. Voici une occasion de me laisser surprendre par l’opportunité d’aller plus loin avec les autres. Et c’est une chance inouïe de nous laisser guider par le talent d’Anne et Patrick Beauvillard pour explorer ce qui nous rassemble\, pour analyser nos aspirations et nos besoins communs\, pour connecter nos savoir-faire et nous offrir une journée de recul sur nos pratiques. » \nPremier aperçu le 29 à l’occasion de notre Tea Time\, puis RDV le 30 avril toute la journée à la Cocotte pour cheminer ! Inscription absolument nécessaire auprès d’Amélie (places limitées\, réservées aux usagers du coworking et du Fablab) au 04.71.20.37.92 \nhttp://institut-territoires-cooperatifs.fr/portfolio-item/journal-itinerance-printemps-2019/ \n  \n
URL:https://www.cocotte-numerique.fr/event/rencontre-avec-anne-et-patrick-beauvillard-sur-les-chemins-de-la-cooperation/
LOCATION:COcotte numérique\, 4\, rue Fg Notre-Dame\, MURAT\, 15300
CATEGORIES:COc'events
ORGANIZER;CN="La%20COcotte%20num%C3%A9rique":MAILTO:contact@cocotte-numerique.fr
END:VEVENT
END:VCALENDAR