BEGIN:VCALENDAR
VERSION:2.0
PRODID:-//COcotte Numérique - ECPv5.1.4//NONSGML v1.0//EN
CALSCALE:GREGORIAN
METHOD:PUBLISH
X-WR-CALNAME:COcotte Numérique
X-ORIGINAL-URL:https://www.cocotte-numerique.fr
X-WR-CALDESC:Évènements pour COcotte Numérique
BEGIN:VTIMEZONE
TZID:Europe/Paris
BEGIN:DAYLIGHT
TZOFFSETFROM:+0100
TZOFFSETTO:+0200
TZNAME:CEST
DTSTART:20190331T010000
END:DAYLIGHT
BEGIN:STANDARD
TZOFFSETFROM:+0200
TZOFFSETTO:+0100
TZNAME:CET
DTSTART:20191027T010000
END:STANDARD
END:VTIMEZONE
BEGIN:VEVENT
DTSTART;TZID=Europe/Paris:20190513T080000
DTEND;TZID=Europe/Paris:20190513T170000
DTSTAMP:20260424T121141
CREATED:20190513T072253Z
LAST-MODIFIED:20190513T072611Z
UID:2018-1557734400-1557766800@www.cocotte-numerique.fr
SUMMARY:Tea time au Fablab
DESCRIPTION:Nous vous proposons un tea time dépaysant pour le jeudi 16 mai : RDV au Fab lab. \n  \nPour tous\, visite du Fablab\, présentation des machines\, de ce qu’on peut faire avec… Tea time commun pour l’espace de coworking et le adhérents du Fab lab. => à partir de 16h00 comme d’habitude \nPour les intéressés\,  un atelier « fabrication de tampons » vous est proposé\, sur réservation (auprès de Kévin ou Amélie). Pour la matière première notamment une participation sera demandée\, à hauteur de 15€ pour les adhérents\, 20€ pour les non adhérents au Fablab. Attention\, vous serez attendus à partir de 15h00 !!! \n
URL:https://www.cocotte-numerique.fr/event/tea-time-au-fablab/
CATEGORIES:COc'events,FabLab
END:VEVENT
END:VCALENDAR