BEGIN:VCALENDAR
VERSION:2.0
PRODID:-//COcotte Numérique - ECPv5.1.4//NONSGML v1.0//EN
CALSCALE:GREGORIAN
METHOD:PUBLISH
X-WR-CALNAME:COcotte Numérique
X-ORIGINAL-URL:https://www.cocotte-numerique.fr
X-WR-CALDESC:Évènements pour COcotte Numérique
BEGIN:VTIMEZONE
TZID:Europe/Paris
BEGIN:DAYLIGHT
TZOFFSETFROM:+0100
TZOFFSETTO:+0200
TZNAME:CEST
DTSTART:20220327T010000
END:DAYLIGHT
BEGIN:STANDARD
TZOFFSETFROM:+0200
TZOFFSETTO:+0100
TZNAME:CET
DTSTART:20221030T010000
END:STANDARD
END:VTIMEZONE
BEGIN:VEVENT
DTSTART;TZID=Europe/Paris:20220407T183000
DTEND;TZID=Europe/Paris:20220407T203000
DTSTAMP:20260424T154740
CREATED:20220321T095243Z
LAST-MODIFIED:20220321T095243Z
UID:2439-1649356200-1649363400@www.cocotte-numerique.fr
SUMMARY:UpHeros Massiac le 7 avril 2022
DESCRIPTION:C’est le retour du RDV des irréductibles optimistes ! \n
URL:https://www.cocotte-numerique.fr/event/upheros-massiac-le-7-avril-2022/
LOCATION:Centre Administratif Massiac\, 1 rue Albert Chalvet\, MASSIAC\, 15500\, France
CATEGORIES:COc'events
END:VEVENT
END:VCALENDAR